BEGIN:VCALENDAR
VERSION:2.0
PRODID:-//Quiltworx.com - ECPv4.9.6//NONSGML v1.0//EN
CALSCALE:GREGORIAN
METHOD:PUBLISH
X-WR-CALNAME:Quiltworx.com
X-ORIGINAL-URL:https://www.quiltworx.com
X-WR-CALDESC:Events for Quiltworx.com
BEGIN:VTIMEZONE
TZID:"America/Denver"
BEGIN:DAYLIGHT
TZOFFSETFROM:-0700
TZOFFSETTO:-0600
TZNAME:MDT
DTSTART:20140309T090000
END:DAYLIGHT
BEGIN:STANDARD
TZOFFSETFROM:-0600
TZOFFSETTO:-0700
TZNAME:MST
DTSTART:20141102T080000
END:STANDARD
END:VTIMEZONE
BEGIN:VEVENT
DTSTART;TZID="America/Denver":20140424T090000
DTEND;TZID="America/Denver":20140426T200000
DTSTAMP:20260420T182952
CREATED:20140303T230931Z
LAST-MODIFIED:20140303T230931Z
UID:13136-1398330000-1398542400@www.quiltworx.com
SUMMARY:Peddler's Way Fire Island Hosta workshop
DESCRIPTION:This stunning quilt ‘Fire Island Hosta’ includes some new techniques in addition to many of the ones you may already have learned in our other classes. Linda & Debbie\, Quiltworx certified instructors\, will lead you through making this project.  Workshop is three days\, with lunch & supper included. \n
URL:https://www.quiltworx.com/event/peddlers-way-fire-island-hosta-workshop/
LOCATION:PeddlersWay Quilt Co.\, 127 Peddlersway\, Washington\, IL\, 61571\, United States
CATEGORIES:Peddlers Way
ORGANIZER;CN="Linda%20Calvert%20%26amp%3B%20Debbie%20Myers":MAILTO:pwqclc@mtco.com
END:VEVENT
END:VCALENDAR