BEGIN:VCALENDAR
VERSION:2.0
PRODID:-//Quiltworx.com - ECPv4.9.6//NONSGML v1.0//EN
CALSCALE:GREGORIAN
METHOD:PUBLISH
X-WR-CALNAME:Quiltworx.com
X-ORIGINAL-URL:https://www.quiltworx.com
X-WR-CALDESC:Events for Quiltworx.com
BEGIN:VTIMEZONE
TZID:"America/Denver"
BEGIN:DAYLIGHT
TZOFFSETFROM:-0700
TZOFFSETTO:-0600
TZNAME:MDT
DTSTART:20150308T090000
END:DAYLIGHT
BEGIN:STANDARD
TZOFFSETFROM:-0600
TZOFFSETTO:-0700
TZNAME:MST
DTSTART:20151101T080000
END:STANDARD
END:VTIMEZONE
BEGIN:VEVENT
DTSTART;VALUE=DATE:20150417
DTEND;VALUE=DATE:20150419
DTSTAMP:20260420T103109
CREATED:20150312T055732Z
LAST-MODIFIED:20150312T055733Z
UID:18074-1429228800-1429401599@www.quiltworx.com
SUMMARY:Paradise in Blooms\, Gaylord\, MI
DESCRIPTION:This demo class will give you a great start on making your own masterpiece! \n
URL:https://www.quiltworx.com/event/paradise-in-blooms-gaylord-mi/
LOCATION:Delphine's Quilt Shop\, 114 N. Otsego Ave.\, Gaylord\, MI\, 49735\, United States
CATEGORIES:Paradise in Blooms,Sue Wilson
END:VEVENT
END:VCALENDAR