BEGIN:VCALENDAR
VERSION:2.0
PRODID:-//Quiltworx.com - ECPv4.9.6//NONSGML v1.0//EN
CALSCALE:GREGORIAN
METHOD:PUBLISH
X-WR-CALNAME:Quiltworx.com
X-ORIGINAL-URL:https://www.quiltworx.com
X-WR-CALDESC:Events for Quiltworx.com
BEGIN:VTIMEZONE
TZID:"America/Denver"
BEGIN:DAYLIGHT
TZOFFSETFROM:-0700
TZOFFSETTO:-0600
TZNAME:MDT
DTSTART:20160313T090000
END:DAYLIGHT
BEGIN:STANDARD
TZOFFSETFROM:-0600
TZOFFSETTO:-0700
TZNAME:MST
DTSTART:20161106T080000
END:STANDARD
END:VTIMEZONE
BEGIN:VEVENT
DTSTART;TZID="America/Denver":20160910T100000
DTEND;TZID="America/Denver":20160910T160000
DTSTAMP:20260424T101524
CREATED:20160622T083235Z
LAST-MODIFIED:20160622T083235Z
UID:78205-1473501600-1473523200@www.quiltworx.com
SUMMARY:Paradise in Blooms 5 of 8
DESCRIPTION: \n  \n
URL:https://www.quiltworx.com/event/paradise-in-blooms-5-of-8/
LOCATION:Queen B's Quilt Shop\, 720 West 2nd Street\, Antioch\, CA\, 94509\, United States
CATEGORIES:Paradise in Blooms,Victoria Johnson
END:VEVENT
END:VCALENDAR