BEGIN:VCALENDAR
VERSION:2.0
PRODID:-//Quiltworx.com - ECPv4.9.6//NONSGML v1.0//EN
CALSCALE:GREGORIAN
METHOD:PUBLISH
X-WR-CALNAME:Quiltworx.com
X-ORIGINAL-URL:https://www.quiltworx.com
X-WR-CALDESC:Events for Quiltworx.com
BEGIN:VTIMEZONE
TZID:"America/Denver"
BEGIN:DAYLIGHT
TZOFFSETFROM:-0700
TZOFFSETTO:-0600
TZNAME:MDT
DTSTART:20150308T090000
END:DAYLIGHT
BEGIN:STANDARD
TZOFFSETFROM:-0600
TZOFFSETTO:-0700
TZNAME:MST
DTSTART:20151101T080000
END:STANDARD
END:VTIMEZONE
BEGIN:VEVENT
DTSTART;TZID="America/Denver":20150410T100000
DTEND;TZID="America/Denver":20150410T130000
DTSTAMP:20260423T102432
CREATED:20150213T015126Z
LAST-MODIFIED:20150213T015647Z
UID:17664-1428660000-1428670800@www.quiltworx.com
SUMMARY:Paradise in Bloom - class 3 of 7  am class
DESCRIPTION:This is the new Judy Niemeyer Certified Shop pattern for 2015.  You can only purchase it through a Certified Shop or a Certified Instructor\, and with Mt.Pleasant being a Certified Shop\, and Barb being a Certified Instructor- you’re covered- you can purchase it here.  This is a Technique of the Month (TOM) pattern.  Just like it says: you learn one technique a month.  Everyone will find success and you will end up with a completed \n78″ x 78″ wall quilt or add extensions for a 98″ x 98″ quilt.  I’m really excited about this pattern \n
URL:https://www.quiltworx.com/event/paradise-in-bloom-class-3-of-7-am-class/
LOCATION:Mt Pleasant Quilting Company\, 2877 Mt Pleasant Rd\, York\, NY\, 14592\, United States
CATEGORIES:Barbara Miller,Paradise in Blooms
END:VEVENT
END:VCALENDAR