BEGIN:VCALENDAR
VERSION:2.0
PRODID:-//Quiltworx.com - ECPv4.9.6//NONSGML v1.0//EN
CALSCALE:GREGORIAN
METHOD:PUBLISH
X-WR-CALNAME:Quiltworx.com
X-ORIGINAL-URL:https://www.quiltworx.com
X-WR-CALDESC:Events for Quiltworx.com
BEGIN:VTIMEZONE
TZID:"America/Denver"
BEGIN:DAYLIGHT
TZOFFSETFROM:-0700
TZOFFSETTO:-0600
TZNAME:MDT
DTSTART:20150308T090000
END:DAYLIGHT
BEGIN:STANDARD
TZOFFSETFROM:-0600
TZOFFSETTO:-0700
TZNAME:MST
DTSTART:20151101T080000
END:STANDARD
END:VTIMEZONE
BEGIN:VEVENT
DTSTART;TZID="America/Denver":20150228T133000
DTEND;TZID="America/Denver":20150228T163000
DTSTAMP:20260420T000022
CREATED:20150104T022038Z
LAST-MODIFIED:20150104T022038Z
UID:16968-1425130200-1425141000@www.quiltworx.com
SUMMARY:Paradise in Bloom
DESCRIPTION:Judy Niemeyer has outdone herself with this spectacular medallion quilt which features a spinning star surrounded by Bird of Paradise blooms.  We will walk you through her methods of cutting\, piecing and organizing so you can break this quilt down into manageable segments.  Come create a masterpiece! \n
URL:https://www.quiltworx.com/event/paradise-in-bloom-4/
LOCATION:Quilters Quest\, 7440 Woodward Ave. Suite M\, Woodridge\, IL\, 60517\, United States
CATEGORIES:Paradise in Blooms
END:VEVENT
END:VCALENDAR