BEGIN:VCALENDAR
VERSION:2.0
PRODID:-//Quiltworx.com - ECPv4.9.6//NONSGML v1.0//EN
CALSCALE:GREGORIAN
METHOD:PUBLISH
X-WR-CALNAME:Quiltworx.com
X-ORIGINAL-URL:https://www.quiltworx.com
X-WR-CALDESC:Events for Quiltworx.com
BEGIN:VTIMEZONE
TZID:"America/Chicago"
BEGIN:DAYLIGHT
TZOFFSETFROM:-0600
TZOFFSETTO:-0500
TZNAME:CDT
DTSTART:20220313T080000
END:DAYLIGHT
BEGIN:STANDARD
TZOFFSETFROM:-0500
TZOFFSETTO:-0600
TZNAME:CST
DTSTART:20221106T070000
END:STANDARD
END:VTIMEZONE
BEGIN:VEVENT
DTSTART;TZID="America/Chicago":20220519T093000
DTEND;TZID="America/Chicago":20220522T160000
DTSTAMP:20260423T124842
CREATED:20201009T225553Z
LAST-MODIFIED:20210326T173015Z
UID:97779-1652952600-1653235200@www.quiltworx.com
SUMMARY:Paper Chase Quilt Retreat\, Immaculata Monastery\, Norfolk\, NE\, May 19\, 20\, 21\, and 22\, 2022
DESCRIPTION:
URL:https://www.quiltworx.com/event/paper-chase-quilt-retreat-immaculata-monastery-norfolk-ne-may-19-20-21-22-2022/
LOCATION:Immaculata Monastery\, 300 N. 18th Street\, Norfolk\, 68701\, United States
CATEGORIES:Connie Lange
ORGANIZER;CN="Connie%20Lange":MAILTO:cjlange@cableone.net
END:VEVENT
END:VCALENDAR