BEGIN:VCALENDAR
VERSION:2.0
PRODID:-//Quiltworx.com - ECPv4.9.6//NONSGML v1.0//EN
CALSCALE:GREGORIAN
METHOD:PUBLISH
X-WR-CALNAME:Quiltworx.com
X-ORIGINAL-URL:https://www.quiltworx.com
X-WR-CALDESC:Events for Quiltworx.com
BEGIN:VTIMEZONE
TZID:"America/Denver"
BEGIN:DAYLIGHT
TZOFFSETFROM:-0700
TZOFFSETTO:-0600
TZNAME:MDT
DTSTART:20170312T090000
END:DAYLIGHT
BEGIN:STANDARD
TZOFFSETFROM:-0600
TZOFFSETTO:-0700
TZNAME:MST
DTSTART:20171105T080000
END:STANDARD
END:VTIMEZONE
BEGIN:VEVENT
DTSTART;TZID="America/Denver":20170626T100000
DTEND;TZID="America/Denver":20170627T160000
DTSTAMP:20260424T051834
CREATED:20170314T075808Z
LAST-MODIFIED:20170314T075808Z
UID:82919-1498471200-1498579200@www.quiltworx.com
SUMMARY:Paddlewheel Wall Hanging at Glacier Quilts
DESCRIPTION:This is a beginner paper piecing project that was featured in American Patchwork & Quilting Magazine in April 2015. This 2 day workshop will teach you the basic skills that you need to have to work on any other Quiltworx paper piecing patterns.   This is not a traditional pattern that you can purchase in a quilt shop.   You MUST purchase the April Issue of American Patchwork and Quilting for the instructions. \nYou will need to digitally download the magazine from the American Patchwork & Quilting April 2015 .  This link should take you to a site you can purchase the magazine or you should be able to find the issue on a Google search.\nPlease visit our website to sign up online or give us a call to reserve your seat or if you have any questions. \n
URL:https://www.quiltworx.com/event/paddlewheel-wall-hanging-at-glacier-quilts/
LOCATION:Glacier Quilts\, 125 Hutton Ranch Rd.\, Kalispell\, MT\, 59901\, United States
CATEGORIES:Glacier Quilts,Judy Niemeyer Classes,Paddlewheel
ATTACH;FMTTYPE=image/jpeg:https://www.quiltworx.com/wp-content/uploads/2015/02/Newsletter-Paddlewheel.jpg
ORGANIZER;CN="Glacier%20Quilts":MAILTO:glacierquilts@optimum.net
END:VEVENT
END:VCALENDAR