BEGIN:VCALENDAR
VERSION:2.0
PRODID:-//Quiltworx.com - ECPv4.9.6//NONSGML v1.0//EN
CALSCALE:GREGORIAN
METHOD:PUBLISH
X-WR-CALNAME:Quiltworx.com
X-ORIGINAL-URL:https://www.quiltworx.com
X-WR-CALDESC:Events for Quiltworx.com
BEGIN:VTIMEZONE
TZID:"America/Denver"
BEGIN:DAYLIGHT
TZOFFSETFROM:-0700
TZOFFSETTO:-0600
TZNAME:MDT
DTSTART:20170312T090000
END:DAYLIGHT
BEGIN:STANDARD
TZOFFSETFROM:-0600
TZOFFSETTO:-0700
TZNAME:MST
DTSTART:20171105T080000
END:STANDARD
END:VTIMEZONE
BEGIN:VEVENT
DTSTART;TZID="America/Denver":20170219T120000
DTEND;TZID="America/Denver":20170219T153000
DTSTAMP:20260424T031526
CREATED:20161223T112502Z
LAST-MODIFIED:20161223T112502Z
UID:81246-1487505600-1487518200@www.quiltworx.com
SUMMARY:Niemeyer Club Paper Piecing with Janet
DESCRIPTION:This class is your opportunity to choose which Judy Niemeyer pattern or technique you work on\, gather your machine and supplies and come to The Ranch for Janet Valliere’ s assistance. She is a certified instructor\, so if you are looking for fabric selection help\, help with any of the techniques\, or you just want to sit and sew some paper piecing with others who enjoy it too\, don’t miss out on this opportunity! \nThis class will be scheduled the Third Sunday of each month.  Watch for other Judy Niemeyer specialty classes also available or suggest a new class to Janet. \n
URL:https://www.quiltworx.com/event/niemeyer-club-paper-piecing-with-janet-2/
LOCATION:Quilter's Ranch\, 1721 E. Warner Road\, #C-8 \, Tempe\, AZ\, 85284\, United States
CATEGORIES:Janet Valliere
ORGANIZER;CN="Quilter%27s%20Ranch":MAILTO:quiltersranch@aol.com
END:VEVENT
END:VCALENDAR