BEGIN:VCALENDAR
VERSION:2.0
PRODID:-//Quiltworx.com - ECPv4.9.6//NONSGML v1.0//EN
CALSCALE:GREGORIAN
METHOD:PUBLISH
X-WR-CALNAME:Quiltworx.com
X-ORIGINAL-URL:https://www.quiltworx.com
X-WR-CALDESC:Events for Quiltworx.com
BEGIN:VTIMEZONE
TZID:"America/Denver"
BEGIN:DAYLIGHT
TZOFFSETFROM:-0700
TZOFFSETTO:-0600
TZNAME:MDT
DTSTART:20190310T090000
END:DAYLIGHT
BEGIN:STANDARD
TZOFFSETFROM:-0600
TZOFFSETTO:-0700
TZNAME:MST
DTSTART:20191103T080000
END:STANDARD
END:VTIMEZONE
BEGIN:VEVENT
DTSTART;TZID="America/Denver":20190411T190000
DTEND;TZID="America/Denver":20190411T200000
DTSTAMP:20260424T075613
CREATED:20170927T195126Z
LAST-MODIFIED:20171006T052520Z
UID:83945-1555009200-1555012800@www.quiltworx.com
SUMMARY:My Quiltworx Journey Trunk Show
DESCRIPTION:My Journey  — Quiltworx Trunk Show \n
URL:https://www.quiltworx.com/event/my-quiltworx-journey-trunk-show/
CATEGORIES:Nancy Kloster
END:VEVENT
END:VCALENDAR