BEGIN:VCALENDAR
VERSION:2.0
PRODID:-//Quiltworx.com - ECPv4.9.6//NONSGML v1.0//EN
CALSCALE:GREGORIAN
METHOD:PUBLISH
X-WR-CALNAME:Quiltworx.com
X-ORIGINAL-URL:https://www.quiltworx.com
X-WR-CALDESC:Events for Quiltworx.com
BEGIN:VTIMEZONE
TZID:"America/Denver"
BEGIN:DAYLIGHT
TZOFFSETFROM:-0700
TZOFFSETTO:-0600
TZNAME:MDT
DTSTART:20180311T090000
END:DAYLIGHT
BEGIN:STANDARD
TZOFFSETFROM:-0600
TZOFFSETTO:-0700
TZNAME:MST
DTSTART:20181104T080000
END:STANDARD
END:VTIMEZONE
BEGIN:VEVENT
DTSTART;TZID="America/Denver":20180111T190000
DTEND;TZID="America/Denver":20180111T200000
DTSTAMP:20260426T031030
CREATED:20170422T222312Z
LAST-MODIFIED:20170423T055553Z
UID:83625-1515697200-1515700800@www.quiltworx.com
SUMMARY:My Quiltworx Certified Instructor Journey Trunk Show
DESCRIPTION:Monroe County Quilt Guild presents … \nA Trunk Show with Quiltworx Certified Instructor Nancy Kloster. \n
URL:https://www.quiltworx.com/event/my-quiltworx-certified-instructor-journey-trunk-show/
LOCATION:Monroe County Quilt Guild\, VFW Hall 400 Jones Ave.\, Monroe\, MI\, 48161\, United States
CATEGORIES:Nancy Kloster
END:VEVENT
END:VCALENDAR