BEGIN:VCALENDAR
VERSION:2.0
PRODID:-//Quiltworx.com - ECPv4.9.6//NONSGML v1.0//EN
CALSCALE:GREGORIAN
METHOD:PUBLISH
X-WR-CALNAME:Quiltworx.com
X-ORIGINAL-URL:https://www.quiltworx.com
X-WR-CALDESC:Events for Quiltworx.com
BEGIN:VTIMEZONE
TZID:"America/Denver"
BEGIN:DAYLIGHT
TZOFFSETFROM:-0700
TZOFFSETTO:-0600
TZNAME:MDT
DTSTART:20210314T090000
END:DAYLIGHT
BEGIN:STANDARD
TZOFFSETFROM:-0600
TZOFFSETTO:-0700
TZNAME:MST
DTSTART:20211107T080000
END:STANDARD
END:VTIMEZONE
BEGIN:VEVENT
DTSTART;TZID="America/Denver":20210410T100000
DTEND;TZID="America/Denver":20210410T150000
DTSTAMP:20260421T025754
CREATED:20210323T153836Z
LAST-MODIFIED:20210323T153836Z
UID:99123-1618048800-1618066800@www.quiltworx.com
SUMMARY:My 2 Baby Sisters Workshop
DESCRIPTION:This is a one day workshop where you will learn how to make the My Two Baby Sisters Placemats.  Supply list and preparation instructions are available at Sew Creative Threads.  Shop is located in front of IHOP. \n
URL:https://www.quiltworx.com/event/my-2-baby-sisters-workshop/
LOCATION:Sew Creative Threads\, 189 CR 6 W\, Elkhart\, IN\, 46514\, United States
CATEGORIES:My Two Baby Sisters Placemats,Tammy Gardner
END:VEVENT
END:VCALENDAR