BEGIN:VCALENDAR
VERSION:2.0
PRODID:-//Quiltworx.com - ECPv4.9.6//NONSGML v1.0//EN
CALSCALE:GREGORIAN
METHOD:PUBLISH
X-WR-CALNAME:Quiltworx.com
X-ORIGINAL-URL:https://www.quiltworx.com
X-WR-CALDESC:Events for Quiltworx.com
BEGIN:VTIMEZONE
TZID:"America/New_York"
BEGIN:DAYLIGHT
TZOFFSETFROM:-0500
TZOFFSETTO:-0400
TZNAME:EDT
DTSTART:20220313T070000
END:DAYLIGHT
BEGIN:STANDARD
TZOFFSETFROM:-0400
TZOFFSETTO:-0500
TZNAME:EST
DTSTART:20221106T060000
END:STANDARD
END:VTIMEZONE
BEGIN:VEVENT
DTSTART;TZID="America/New_York":20220521T100000
DTEND;TZID="America/New_York":20220521T180000
DTSTAMP:20260420T174623
CREATED:20220317T151348Z
LAST-MODIFIED:20220317T232247Z
UID:103303-1653127200-1653156000@www.quiltworx.com
SUMMARY:"Masquerade" quilt class
DESCRIPTION:Join via Zoom or if you are local to Salem NH\, come into our studio to learn some simple techniques to make this 68″ quilt with Donna Viau our Quiltworx Certified Instructor. \n
URL:https://www.quiltworx.com/event/masquerade-quilt-class/
LOCATION:The Masquerade Costumes & Quilts\, 4 Joanna Rd\, Salem\, NH\, 03079\, United States
CATEGORIES:Donna Viau,Donna Viau,The Masquerade Costumes & Quilts,Zoom
ATTACH;FMTTYPE=image/png:https://d90udyyio1r4.cloudfront.net/wp-content/uploads/2022/03/NL-Masquerade.png
ORGANIZER;CN="Donna%20Viau":MAILTO:TheMasqueradeNH@gmail.com
END:VEVENT
END:VCALENDAR