BEGIN:VCALENDAR
VERSION:2.0
PRODID:-//Quiltworx.com - ECPv4.9.6//NONSGML v1.0//EN
CALSCALE:GREGORIAN
METHOD:PUBLISH
X-WR-CALNAME:Quiltworx.com
X-ORIGINAL-URL:https://www.quiltworx.com
X-WR-CALDESC:Events for Quiltworx.com
BEGIN:VTIMEZONE
TZID:"America/Denver"
BEGIN:DAYLIGHT
TZOFFSETFROM:-0700
TZOFFSETTO:-0600
TZNAME:MDT
DTSTART:20140309T090000
END:DAYLIGHT
BEGIN:STANDARD
TZOFFSETFROM:-0600
TZOFFSETTO:-0700
TZNAME:MST
DTSTART:20141102T080000
END:STANDARD
END:VTIMEZONE
BEGIN:VEVENT
DTSTART;TZID="America/Denver":20140111T103000
DTEND;TZID="America/Denver":20140112T170000
DTSTAMP:20260422T145439
CREATED:20130512T070433Z
LAST-MODIFIED:20130512T070433Z
UID:7994-1389436200-1389546000@www.quiltworx.com
SUMMARY:Mariners Compass\, Weekend Session\, Maumee\, OH
DESCRIPTION:Classes #5 and #6 of 6 \n
URL:https://www.quiltworx.com/event/mariners-compass-weekend-session-maumee-oh/
CATEGORIES:Mariners Compass,Sue Wilson
ORGANIZER;CN="Quilt%20Foundry%20Staff":MAILTO:lisa@quiltfoundry.com
END:VEVENT
END:VCALENDAR