BEGIN:VCALENDAR
VERSION:2.0
PRODID:-//Quiltworx.com - ECPv4.9.6//NONSGML v1.0//EN
CALSCALE:GREGORIAN
METHOD:PUBLISH
X-WR-CALNAME:Quiltworx.com
X-ORIGINAL-URL:https://www.quiltworx.com
X-WR-CALDESC:Events for Quiltworx.com
BEGIN:VTIMEZONE
TZID:"America/Denver"
BEGIN:DAYLIGHT
TZOFFSETFROM:-0700
TZOFFSETTO:-0600
TZNAME:MDT
DTSTART:20140309T090000
END:DAYLIGHT
BEGIN:STANDARD
TZOFFSETFROM:-0600
TZOFFSETTO:-0700
TZNAME:MST
DTSTART:20141102T080000
END:STANDARD
END:VTIMEZONE
BEGIN:VEVENT
DTSTART;TZID="America/Denver":20140501T150000
DTEND;TZID="America/Denver":20140504T140000
DTSTAMP:20260420T201314
CREATED:20140303T031042Z
LAST-MODIFIED:20140303T031042Z
UID:13133-1398956400-1399212000@www.quiltworx.com
SUMMARY:Mariner's Compass Weekend at Inspirations in Big Bear\, CA
DESCRIPTION:  \n  \nJoin Cindy Myers\, Certified Instructor for Judy Niemeyer Quilting\, in a great quilting weekend\, making Mariner’s Compass\, the latest Technique of the Month quilt by Judy Niemeyer quilting\,. This quilt is designed to teach you many of the different techniques found in Judy Niemeyer quilt patterns. After finishing this quilt you will be able to tackle most any of Judy’s other patterns.  \n  \nStarting on Thursday before dinner we will begin working on Lesson #1 and by the end of the weekend you will be well on you way to making this beautiful quilt. The price includes\, the pattern\, meals\, lodging\, all instruction\, and lots of tips and techniques.  \n  \n
URL:https://www.quiltworx.com/event/mariners-compass-weekend-at-inspirations-in-big-bear-ca/
LOCATION:Inspirations at Big Bear Lake\, 425 Conklin\, Big Bear Lake\, CA\, 92315\, United States
CATEGORIES:Cindy Myers,Mariners Compass
ORGANIZER;CN="Lorraine%20Taylor":MAILTO:lorraine@inspirationsatbigbear
END:VEVENT
END:VCALENDAR