BEGIN:VCALENDAR
VERSION:2.0
PRODID:-//Quiltworx.com - ECPv4.9.6//NONSGML v1.0//EN
CALSCALE:GREGORIAN
METHOD:PUBLISH
X-WR-CALNAME:Quiltworx.com
X-ORIGINAL-URL:https://www.quiltworx.com
X-WR-CALDESC:Events for Quiltworx.com
BEGIN:VTIMEZONE
TZID:"America/Denver"
BEGIN:DAYLIGHT
TZOFFSETFROM:-0700
TZOFFSETTO:-0600
TZNAME:MDT
DTSTART:20180311T090000
END:DAYLIGHT
BEGIN:STANDARD
TZOFFSETFROM:-0600
TZOFFSETTO:-0700
TZNAME:MST
DTSTART:20181104T080000
END:STANDARD
END:VTIMEZONE
BEGIN:VEVENT
DTSTART;TZID="America/Denver":20180512T080000
DTEND;TZID="America/Denver":20180512T170000
DTSTAMP:20260420T063604
CREATED:20170828T204220Z
LAST-MODIFIED:20170828T204243Z
UID:85689-1526112000-1526144400@www.quiltworx.com
SUMMARY:Mariners Compass TOM (Class 2 of 6)
DESCRIPTION: \n
URL:https://www.quiltworx.com/event/mariners-compass-tom-class-2-of-6/
LOCATION:Cottontail Qults\, 2259 Lewis St NW\, Kennesaw\, GA\, 30144\, United States
CATEGORIES:Carol Stanek,Mariners Compass
END:VEVENT
END:VCALENDAR