BEGIN:VCALENDAR
VERSION:2.0
PRODID:-//Quiltworx.com - ECPv4.9.6//NONSGML v1.0//EN
CALSCALE:GREGORIAN
METHOD:PUBLISH
X-WR-CALNAME:Quiltworx.com
X-ORIGINAL-URL:https://www.quiltworx.com
X-WR-CALDESC:Events for Quiltworx.com
BEGIN:VTIMEZONE
TZID:"America/Denver"
BEGIN:DAYLIGHT
TZOFFSETFROM:-0700
TZOFFSETTO:-0600
TZNAME:MDT
DTSTART:20130310T090000
END:DAYLIGHT
BEGIN:STANDARD
TZOFFSETFROM:-0600
TZOFFSETTO:-0700
TZNAME:MST
DTSTART:20131103T080000
END:STANDARD
END:VTIMEZONE
BEGIN:VEVENT
DTSTART;TZID="America/Denver":20130117T103000
DTEND;TZID="America/Denver":20130117T143000
DTSTAMP:20260425T135519
CREATED:20130301T031809Z
LAST-MODIFIED:20130301T035258Z
UID:6369-1358418600-1358433000@www.quiltworx.com
SUMMARY:Mariner's Compass TOM Intro at Vicki's Quilts Down Under in Missoula MT 
DESCRIPTION:Intro \nThis is a free class for those making the basic pattern. \nThose making the Queen size will be required to purchase the queen extension pattern. \n
URL:https://www.quiltworx.com/event/mariners-compass-tom-at-vickis-quilts-down-under-in-missoula-mt/
LOCATION:Vicki's Quilts Down Under\, 2425 W Central Suite B\, Missoula\, Montana\, 59804\, Select a Country:
CATEGORIES:Diana Simkins,Mariners Compass
ORGANIZER;CN="Vicki%20Langley":MAILTO:alterationsetc@aol.com
END:VEVENT
END:VCALENDAR