BEGIN:VCALENDAR
VERSION:2.0
PRODID:-//Quiltworx.com - ECPv4.9.6//NONSGML v1.0//EN
CALSCALE:GREGORIAN
METHOD:PUBLISH
X-WR-CALNAME:Quiltworx.com
X-ORIGINAL-URL:https://www.quiltworx.com
X-WR-CALDESC:Events for Quiltworx.com
BEGIN:VTIMEZONE
TZID:"America/Denver"
BEGIN:DAYLIGHT
TZOFFSETFROM:-0700
TZOFFSETTO:-0600
TZNAME:MDT
DTSTART:20140309T090000
END:DAYLIGHT
BEGIN:STANDARD
TZOFFSETFROM:-0600
TZOFFSETTO:-0700
TZNAME:MST
DTSTART:20141102T080000
END:STANDARD
END:VTIMEZONE
BEGIN:VEVENT
DTSTART;TZID="America/Denver":20140118T100000
DTEND;TZID="America/Denver":20140118T170000
DTSTAMP:20260423T144202
CREATED:20130528T233852Z
LAST-MODIFIED:20130528T233852Z
UID:8408-1390039200-1390064400@www.quiltworx.com
SUMMARY:Mariner's Compass Technique of the Month (TOM) Session 1 ~ Sturbridge Quilting and Sewing\, Sturbridge\, MA
DESCRIPTION:Join Jackie in taking this 5 session TOM at Sturbridge Quilting and Sewing!  You will learn multiple techniques to create this timeless quilting design. \n \nMariner’s Compass \n\n
URL:https://www.quiltworx.com/event/mariners-compass-technique-of-the-month-tom-session-1-sturbridge-quilting-and-sewing-sturbridge-ma/
LOCATION:Sturbridge Quilting and Sewing Center\, 559 Main Street\, Sturbridge\, MA\, 01566\, United States
CATEGORIES:Jackie Kunkel,Mariners Compass
ORGANIZER;CN="Gina%20Zeleznok":MAILTO:info@sturbridgequiltandsew.com
END:VEVENT
END:VCALENDAR