BEGIN:VCALENDAR
VERSION:2.0
PRODID:-//Quiltworx.com - ECPv4.9.6//NONSGML v1.0//EN
CALSCALE:GREGORIAN
METHOD:PUBLISH
X-WR-CALNAME:Quiltworx.com
X-ORIGINAL-URL:https://www.quiltworx.com
X-WR-CALDESC:Events for Quiltworx.com
BEGIN:VTIMEZONE
TZID:"America/Denver"
BEGIN:DAYLIGHT
TZOFFSETFROM:-0700
TZOFFSETTO:-0600
TZNAME:MDT
DTSTART:20150308T090000
END:DAYLIGHT
BEGIN:STANDARD
TZOFFSETFROM:-0600
TZOFFSETTO:-0700
TZNAME:MST
DTSTART:20151101T080000
END:STANDARD
END:VTIMEZONE
BEGIN:VEVENT
DTSTART;TZID="America/Denver":20150328T100000
DTEND;TZID="America/Denver":20150328T150000
DTSTAMP:20260420T050042
CREATED:20141220T204314Z
LAST-MODIFIED:20141220T204315Z
UID:16908-1427536800-1427554800@www.quiltworx.com
SUMMARY:Mariners Compass
DESCRIPTION:
URL:https://www.quiltworx.com/event/mariners-compass-39/
LOCATION:Calla Lily Quilts\, 2917 Battleground\, Greensboro\, NC\, 27408\, United States
CATEGORIES:Lucille Amos
END:VEVENT
END:VCALENDAR