BEGIN:VCALENDAR
VERSION:2.0
PRODID:-//Quiltworx.com - ECPv4.9.6//NONSGML v1.0//EN
CALSCALE:GREGORIAN
METHOD:PUBLISH
X-WR-CALNAME:Quiltworx.com
X-ORIGINAL-URL:https://www.quiltworx.com
X-WR-CALDESC:Events for Quiltworx.com
BEGIN:VTIMEZONE
TZID:"America/Denver"
BEGIN:DAYLIGHT
TZOFFSETFROM:-0700
TZOFFSETTO:-0600
TZNAME:MDT
DTSTART:20170312T090000
END:DAYLIGHT
BEGIN:STANDARD
TZOFFSETFROM:-0600
TZOFFSETTO:-0700
TZNAME:MST
DTSTART:20171105T080000
END:STANDARD
END:VTIMEZONE
BEGIN:VEVENT
DTSTART;TZID="America/Denver":20170617T093000
DTEND;TZID="America/Denver":20170617T170000
DTSTAMP:20260419T122738
CREATED:20170416T032808Z
LAST-MODIFIED:20170416T032808Z
UID:83445-1497691800-1497718800@www.quiltworx.com
SUMMARY:Maple Leaf Flurries
DESCRIPTION:
URL:https://www.quiltworx.com/event/maple-leaf-flurries-3/
LOCATION:Countryfolk Fabrics\, #5 45802 Luckakuck Way\, Chilliwack\, BC\, V2R 5P9\, Canada
CATEGORIES:Julie Faulkner,Maple Leaf Flurries
ORGANIZER;CN="Kerri%20Sketchley":MAILTO:info@klssewing.com
END:VEVENT
END:VCALENDAR