BEGIN:VCALENDAR
VERSION:2.0
PRODID:-//Quiltworx.com - ECPv4.9.6//NONSGML v1.0//EN
CALSCALE:GREGORIAN
METHOD:PUBLISH
X-WR-CALNAME:Quiltworx.com
X-ORIGINAL-URL:https://www.quiltworx.com
X-WR-CALDESC:Events for Quiltworx.com
BEGIN:VTIMEZONE
TZID:"America/Denver"
BEGIN:DAYLIGHT
TZOFFSETFROM:-0700
TZOFFSETTO:-0600
TZNAME:MDT
DTSTART:20170312T090000
END:DAYLIGHT
BEGIN:STANDARD
TZOFFSETFROM:-0600
TZOFFSETTO:-0700
TZNAME:MST
DTSTART:20171105T080000
END:STANDARD
END:VTIMEZONE
BEGIN:VEVENT
DTSTART;TZID="America/Denver":20170922T100000
DTEND;TZID="America/Denver":20170924T170000
DTSTAMP:20260423T171521
CREATED:20161230T021844Z
LAST-MODIFIED:20161230T021844Z
UID:81300-1506074400-1506272400@www.quiltworx.com
SUMMARY:Lone Star Series 3 day Seminar
DESCRIPTION:Learn how to paper piece the Judy Niemeyer way from Certified Instructor\, Janet Valliere. You will learn in this class how to piece many different units\, but the main unit common in all three quilts is the lone star unit. \nChoose from one of three patterns: Summer Solstice\, Prairie Star\, or Amazon Star. \nYour quilt will not be completed at the end of the 3 day experience but you will be well on your way to getting them completed. \nAll for more information please go to www.quiltersranch.com and look at the calendar for September. All pre-class information can be downloaded from there. Any questions please contact the teacher or Quilters Ranch. \n
URL:https://www.quiltworx.com/event/lone-star-series-3-day-seminar/
LOCATION:Quilter's Ranch\, 1721 E. Warner Road\, #C-8 \, Tempe\, AZ\, 85284\, United States
CATEGORIES:Amazon Star,Janet Valliere,Prairie Star 2014,Summer Solstice
ORGANIZER;CN="Quilter%27s%20Ranch":MAILTO:quiltersranch@aol.com
END:VEVENT
END:VCALENDAR