BEGIN:VCALENDAR
VERSION:2.0
PRODID:-//Quiltworx.com - ECPv4.9.6//NONSGML v1.0//EN
CALSCALE:GREGORIAN
METHOD:PUBLISH
X-WR-CALNAME:Quiltworx.com
X-ORIGINAL-URL:https://www.quiltworx.com
X-WR-CALDESC:Events for Quiltworx.com
BEGIN:VTIMEZONE
TZID:"America/Chicago"
BEGIN:DAYLIGHT
TZOFFSETFROM:-0600
TZOFFSETTO:-0500
TZNAME:CDT
DTSTART:20210314T080000
END:DAYLIGHT
BEGIN:STANDARD
TZOFFSETFROM:-0500
TZOFFSETTO:-0600
TZNAME:CST
DTSTART:20211107T070000
END:STANDARD
END:VTIMEZONE
BEGIN:VEVENT
DTSTART;TZID="America/Chicago":20210510T190000
DTEND;TZID="America/Chicago":20210510T210000
DTSTAMP:20260421T060431
CREATED:20210311T211439Z
LAST-MODIFIED:20210311T211439Z
UID:97782-1620673200-1620680400@www.quiltworx.com
SUMMARY:Lincoln Nebraska Quilt Guild Trunk Show\, Lincoln\, NE\, May 10\, 2021
DESCRIPTION:
URL:https://www.quiltworx.com/event/lincoln-nebraska-quilt-guild-trunk-show-lincoln-ne-may-10-2021/
LOCATION:College View Seventh Day Adventist Church\, 4801 Prescott Ave.\, Lincoln\, NE\, 68506\, United States
CATEGORIES:Connie Lange
END:VEVENT
END:VCALENDAR