BEGIN:VCALENDAR
VERSION:2.0
PRODID:-//Quiltworx.com - ECPv4.9.6//NONSGML v1.0//EN
CALSCALE:GREGORIAN
METHOD:PUBLISH
X-WR-CALNAME:Quiltworx.com
X-ORIGINAL-URL:https://www.quiltworx.com
X-WR-CALDESC:Events for Quiltworx.com
BEGIN:VTIMEZONE
TZID:"America/Denver"
BEGIN:DAYLIGHT
TZOFFSETFROM:-0700
TZOFFSETTO:-0600
TZNAME:MDT
DTSTART:20150308T090000
END:DAYLIGHT
BEGIN:STANDARD
TZOFFSETFROM:-0600
TZOFFSETTO:-0700
TZNAME:MST
DTSTART:20151101T080000
END:STANDARD
END:VTIMEZONE
BEGIN:VEVENT
DTSTART;TZID="America/Denver":20150117T090000
DTEND;TZID="America/Denver":20150117T120000
DTSTAMP:20260419T172924
CREATED:20150115T034953Z
LAST-MODIFIED:20150115T034954Z
UID:17128-1421485200-1421496000@www.quiltworx.com
SUMMARY:Learn to cut out Judy Niemeyer patterns
DESCRIPTION:Sign up for a cutting class at Quilters Destination which is on January 17\, 2015. Call Quilters Destination for more info. \n
URL:https://www.quiltworx.com/event/learn-to-cut-out-judy-niemeyer-patterns/
CATEGORIES:Instructor,Jane Reents,Vintage Compass
ORGANIZER;CN="Quilters%20Destinaiton":MAILTO:quiltersdest.sbcglobal.net
END:VEVENT
END:VCALENDAR