BEGIN:VCALENDAR
VERSION:2.0
PRODID:-//Quiltworx.com - ECPv4.9.6//NONSGML v1.0//EN
CALSCALE:GREGORIAN
METHOD:PUBLISH
X-WR-CALNAME:Quiltworx.com
X-ORIGINAL-URL:https://www.quiltworx.com
X-WR-CALDESC:Events for Quiltworx.com
BEGIN:VTIMEZONE
TZID:"America/Denver"
BEGIN:DAYLIGHT
TZOFFSETFROM:-0700
TZOFFSETTO:-0600
TZNAME:MDT
DTSTART:20150308T090000
END:DAYLIGHT
BEGIN:STANDARD
TZOFFSETFROM:-0600
TZOFFSETTO:-0700
TZNAME:MST
DTSTART:20151101T080000
END:STANDARD
END:VTIMEZONE
BEGIN:VEVENT
DTSTART;VALUE=DATE:20150109
DTEND;VALUE=DATE:20150111
DTSTAMP:20260423T153417
CREATED:20140715T182638Z
LAST-MODIFIED:20140715T182638Z
UID:14589-1420761600-1420934399@www.quiltworx.com
SUMMARY:Kingwood Area Quilt Guild - 2 Day Workshop
DESCRIPTION:As of 7/15/2014 workshop pattern to be determined \n  \n
URL:https://www.quiltworx.com/event/kingwood-area-quilt-guild-2-day-workshop/
LOCATION:Humble Sewing Center\, 19333 Hwy 59 Suite 105\, Humble\, TX\, Select a Country:
CATEGORIES:Denise Green
END:VEVENT
END:VCALENDAR