BEGIN:VCALENDAR
VERSION:2.0
PRODID:-//Quiltworx.com - ECPv4.9.6//NONSGML v1.0//EN
CALSCALE:GREGORIAN
METHOD:PUBLISH
X-WR-CALNAME:Quiltworx.com
X-ORIGINAL-URL:https://www.quiltworx.com
X-WR-CALDESC:Events for Quiltworx.com
BEGIN:VTIMEZONE
TZID:"America/Denver"
BEGIN:DAYLIGHT
TZOFFSETFROM:-0700
TZOFFSETTO:-0600
TZNAME:MDT
DTSTART:20170312T090000
END:DAYLIGHT
BEGIN:STANDARD
TZOFFSETFROM:-0600
TZOFFSETTO:-0700
TZNAME:MST
DTSTART:20171105T080000
END:STANDARD
END:VTIMEZONE
BEGIN:VEVENT
DTSTART;TZID="America/Denver":20170114T101500
DTEND;TZID="America/Denver":20170114T163000
DTSTAMP:20260423T085455
CREATED:20170113T105802Z
LAST-MODIFIED:20170113T105802Z
UID:81615-1484388900-1484411400@www.quiltworx.com
SUMMARY:Judy Work Day
DESCRIPTION:Join us to work on any Judy of your choice at the Orange Quilt Bee in Orange\, CA. \n  \n628 E Katella \nOrange\, CA 92867 \n
URL:https://www.quiltworx.com/event/judy-work-day-15/
LOCATION:Orange Quilt Bee\, 628 E Katella Ave\, Orange\, CA\, United States
CATEGORIES:Catherine Wilson
ORGANIZER;CN="Catherine%20Wilson":MAILTO:catherine@queeniequilts.com
END:VEVENT
END:VCALENDAR