BEGIN:VCALENDAR
VERSION:2.0
PRODID:-//Quiltworx.com - ECPv4.9.6//NONSGML v1.0//EN
CALSCALE:GREGORIAN
METHOD:PUBLISH
X-WR-CALNAME:Quiltworx.com
X-ORIGINAL-URL:https://www.quiltworx.com
X-WR-CALDESC:Events for Quiltworx.com
BEGIN:VTIMEZONE
TZID:"America/New_York"
BEGIN:DAYLIGHT
TZOFFSETFROM:-0500
TZOFFSETTO:-0400
TZNAME:EDT
DTSTART:20200308T070000
END:DAYLIGHT
BEGIN:STANDARD
TZOFFSETFROM:-0400
TZOFFSETTO:-0500
TZNAME:EST
DTSTART:20201101T060000
END:STANDARD
END:VTIMEZONE
BEGIN:VEVENT
DTSTART;TZID="America/New_York":20200509T103000
DTEND;TZID="America/New_York":20200509T160000
DTSTAMP:20260423T144017
CREATED:20200214T204053Z
LAST-MODIFIED:20200214T205231Z
UID:96657-1589020200-1589040000@www.quiltworx.com
SUMMARY:Judy Club
DESCRIPTION:Come work on any Quiltworx pattern and get assistance from Certified Instructor Debbie Dison \n
URL:https://www.quiltworx.com/event/judy-club-14-2020-05-16/
LOCATION:Quilter's Square\, 3301 Keithshire Way Ste 109\, Lexington\, KY\, 40503\, United States
CATEGORIES:Debbie Dison
END:VEVENT
END:VCALENDAR