BEGIN:VCALENDAR
VERSION:2.0
PRODID:-//Quiltworx.com - ECPv4.9.6//NONSGML v1.0//EN
CALSCALE:GREGORIAN
METHOD:PUBLISH
X-WR-CALNAME:Quiltworx.com
X-ORIGINAL-URL:https://www.quiltworx.com
X-WR-CALDESC:Events for Quiltworx.com
BEGIN:VTIMEZONE
TZID:"America/Denver"
BEGIN:DAYLIGHT
TZOFFSETFROM:-0700
TZOFFSETTO:-0600
TZNAME:MDT
DTSTART:20170312T090000
END:DAYLIGHT
BEGIN:STANDARD
TZOFFSETFROM:-0600
TZOFFSETTO:-0700
TZNAME:MST
DTSTART:20171105T080000
END:STANDARD
END:VTIMEZONE
BEGIN:VEVENT
DTSTART;TZID="America/Denver":20170308T100000
DTEND;TZID="America/Denver":20170309T160000
DTSTAMP:20260426T030344
CREATED:20161224T021744Z
LAST-MODIFIED:20161224T021748Z
UID:81259-1488967200-1489075200@www.quiltworx.com
SUMMARY:Janet's Tote
DESCRIPTION:
URL:https://www.quiltworx.com/event/janets-tote-2/
LOCATION:Thimble Towne Quilt Shop\, Bakersfield\, 2841 Unicorn\, Suite 103\, Bakersfield\, CA\, 93308\, United States
CATEGORIES:Patsy Carpenter
ORGANIZER;CN="Jeremy%20Swaim":MAILTO:info@thimbletowne.com
END:VEVENT
END:VCALENDAR