BEGIN:VCALENDAR
VERSION:2.0
PRODID:-//Quiltworx.com - ECPv4.9.6//NONSGML v1.0//EN
CALSCALE:GREGORIAN
METHOD:PUBLISH
X-WR-CALNAME:Quiltworx.com
X-ORIGINAL-URL:https://www.quiltworx.com
X-WR-CALDESC:Events for Quiltworx.com
BEGIN:VTIMEZONE
TZID:"America/Denver"
BEGIN:DAYLIGHT
TZOFFSETFROM:-0700
TZOFFSETTO:-0600
TZNAME:MDT
DTSTART:20180311T090000
END:DAYLIGHT
BEGIN:STANDARD
TZOFFSETFROM:-0600
TZOFFSETTO:-0700
TZNAME:MST
DTSTART:20181104T080000
END:STANDARD
END:VTIMEZONE
BEGIN:VEVENT
DTSTART;VALUE=DATE:20180515
DTEND;VALUE=DATE:20180516
DTSTAMP:20260420T225331
CREATED:20180221T114721Z
LAST-MODIFIED:20180221T114721Z
UID:87995-1526342400-1526428799@www.quiltworx.com
SUMMARY:Intro to Paper Piecing - The Judy Niemeyer Way
DESCRIPTION:You will use a fabulous Brother machine all the while learning how to paper piece the Judy Niemeyer way. At the end of the event you will walk away with your very own Mulberry Leaf wall hanging or placemat. \n
URL:https://www.quiltworx.com/event/intro-to-paper-piecing-the-judy-niemeyer-way-13/
LOCATION:Stitch It Up\, 332 S. Stephenson Ave.\, Iron Mountain\, MI\, 49801\, United States
CATEGORIES:Brenda Anderson
ATTACH;FMTTYPE=image/jpeg:https://d90udyyio1r4.cloudfront.net/wp-content/uploads/2018/01/JN-Class-Project-Small-426x640.jpg
END:VEVENT
END:VCALENDAR