BEGIN:VCALENDAR
VERSION:2.0
PRODID:-//Quiltworx.com - ECPv4.9.6//NONSGML v1.0//EN
CALSCALE:GREGORIAN
METHOD:PUBLISH
X-WR-CALNAME:Quiltworx.com
X-ORIGINAL-URL:https://www.quiltworx.com
X-WR-CALDESC:Events for Quiltworx.com
BEGIN:VTIMEZONE
TZID:"America/Denver"
BEGIN:DAYLIGHT
TZOFFSETFROM:-0700
TZOFFSETTO:-0600
TZNAME:MDT
DTSTART:20150308T090000
END:DAYLIGHT
BEGIN:STANDARD
TZOFFSETFROM:-0600
TZOFFSETTO:-0700
TZNAME:MST
DTSTART:20151101T080000
END:STANDARD
END:VTIMEZONE
BEGIN:VEVENT
DTSTART;TZID="America/Denver":20150421T180000
DTEND;TZID="America/Denver":20150421T210000
DTSTAMP:20260423T083842
CREATED:20150213T014245Z
LAST-MODIFIED:20150213T014245Z
UID:17662-1429639200-1429650000@www.quiltworx.com
SUMMARY:Ice Crystals - class 3 of 3  pm class
DESCRIPTION:This is a Judy Niemeyer foundation paper piecing pattern and the perfect time of year \nto make this quilt.  With floating units\, engulfed in a sea of background fabrics\, the Ice Crystals pattern is elegant\, yet simple\, fast\, and affordable for the size of the finished quilt – 64″ x 84″.  (You can buy expansion papers to make it larger if you choose.)  No paper piecing experience needed to take this class.  (I’m a blue color lover – so this quilt tickles my fancy!  Kits available.        \n
URL:https://www.quiltworx.com/event/ice-crystals-class-3-of-3-pm-class/
LOCATION:Mt Pleasant Quilting Company\, 2877 Mt Pleasant Rd\, York\, NY\, 14592\, United States
CATEGORIES:Barbara Miller
END:VEVENT
END:VCALENDAR