BEGIN:VCALENDAR
VERSION:2.0
PRODID:-//Quiltworx.com - ECPv4.9.6//NONSGML v1.0//EN
CALSCALE:GREGORIAN
METHOD:PUBLISH
X-WR-CALNAME:Quiltworx.com
X-ORIGINAL-URL:https://www.quiltworx.com
X-WR-CALDESC:Events for Quiltworx.com
BEGIN:VTIMEZONE
TZID:"UTC"
BEGIN:STANDARD
TZOFFSETFROM:+0000
TZOFFSETTO:+0000
TZNAME:UTC
DTSTART:20200101T000000
END:STANDARD
END:VTIMEZONE
BEGIN:VEVENT
DTSTART;TZID="UTC":20200625T150000
DTEND;TZID="UTC":20200629T110000
DTSTAMP:20260423T195436
CREATED:20190605T042544Z
LAST-MODIFIED:20191206T184651Z
UID:93534-1593097200-1593428400@www.quiltworx.com
SUMMARY:Protected: Protected: Training Center - 2020 - June #3 CI Renewal - FULL
DESCRIPTION:June #3 Certified Instructor Renewal  \nOur June #3 Certified Instructor Renewal retreat will include: \nCheck-in: 06/25/2020 at 3:00 p.m.\nSewing Days: 06/26/2020-06/28/2020\nCheck-out: 06/29/2020 at 11 a.m. \nDuring this retreat Judy will be in and out assisting where she is needed. \nFor this retreat\,food will be not provided each day.  You will be responsible for providing your own during the time you are here. \nTravel Information: \nAir transportation: Northwest/Delta\, Alaska\, and United/Continental to Airport Code FCA \nGlacier Taxi can provide Shuttle services to and from the airport to the Quiltworx Training Facility. Their number is 406-250-3603.  Please call them for pricing. \nFor more information on our Training Center\, including our Cancellation Policy\, please click on the PDF files that are included on this page. \nIn addition\, you can sign up for our newsletter on our website for more information and visit our Facebook Page. \n
URL:https://www.quiltworx.com/event/httpwww-quiltworx-comeventtraining-center-2020-june-3-certified-instructor-renewal/
LOCATION:Quiltworx Training Center Retreats\, 100 Lincoln Lane\, Kalispell\, MT\, 59901\, United States
CATEGORIES:Judy Niemeyer,Judy Niemeyer,Retreats
ORGANIZER;CN="Judel%20Buls":MAILTO:judel@quiltworx.com
END:VEVENT
END:VCALENDAR