BEGIN:VCALENDAR
VERSION:2.0
PRODID:-//Quiltworx.com - ECPv4.9.6//NONSGML v1.0//EN
CALSCALE:GREGORIAN
METHOD:PUBLISH
X-WR-CALNAME:Quiltworx.com
X-ORIGINAL-URL:https://www.quiltworx.com
X-WR-CALDESC:Events for Quiltworx.com
BEGIN:VTIMEZONE
TZID:"America/Denver"
BEGIN:DAYLIGHT
TZOFFSETFROM:-0700
TZOFFSETTO:-0600
TZNAME:MDT
DTSTART:20150308T090000
END:DAYLIGHT
BEGIN:STANDARD
TZOFFSETFROM:-0600
TZOFFSETTO:-0700
TZNAME:MST
DTSTART:20151101T080000
END:STANDARD
END:VTIMEZONE
BEGIN:VEVENT
DTSTART;VALUE=DATE:20150530
DTEND;VALUE=DATE:20150601
DTSTAMP:20260421T030109
CREATED:20150515T011257Z
LAST-MODIFIED:20150520T064017Z
UID:19037-1432944000-1433116799@www.quiltworx.com
SUMMARY:Helena Quilter's Guild Quilt Show
DESCRIPTION:Diana will be a vendor at the show displaying quilts and offering patterns for sale.  She will also do demonstrations.  Stop in to see her and enjoy the show! \n
URL:https://www.quiltworx.com/event/helena-quilters-guild-quilt-show-2/
LOCATION:Helena Civic Center\, 340 Neill Ave\, Helena \, MT\, 59601\, United States
CATEGORIES:Diana Simkins
END:VEVENT
END:VCALENDAR