BEGIN:VCALENDAR
VERSION:2.0
PRODID:-//Quiltworx.com - ECPv4.9.6//NONSGML v1.0//EN
CALSCALE:GREGORIAN
METHOD:PUBLISH
X-WR-CALNAME:Quiltworx.com
X-ORIGINAL-URL:https://www.quiltworx.com
X-WR-CALDESC:Events for Quiltworx.com
BEGIN:VTIMEZONE
TZID:"America/Denver"
BEGIN:DAYLIGHT
TZOFFSETFROM:-0700
TZOFFSETTO:-0600
TZNAME:MDT
DTSTART:20170312T090000
END:DAYLIGHT
BEGIN:STANDARD
TZOFFSETFROM:-0600
TZOFFSETTO:-0700
TZNAME:MST
DTSTART:20171105T080000
END:STANDARD
END:VTIMEZONE
BEGIN:VEVENT
DTSTART;VALUE=DATE:20170914
DTEND;VALUE=DATE:20170918
DTSTAMP:20260424T083245
CREATED:20170529T085541Z
LAST-MODIFIED:20170529T085541Z
UID:84058-1505347200-1505692799@www.quiltworx.com
SUMMARY:Haida Gwaii Retreat
DESCRIPTION:Come to the beautiful Haida Gwaii islands for a 3 ½ day retreat to make the Bali Fever.  Combine it with a magical holiday!  Places are limited. \n
URL:https://www.quiltworx.com/event/haida-gwaii-retreat/
LOCATION:Sandspit Harbour Inn\, Sandspit\, BC\, Canada
CATEGORIES:Anne Hall,Bali Fever
ORGANIZER;CN="Peg%20Waldron":MAILTO:pwaldron@qcislands.net
END:VEVENT
END:VCALENDAR