BEGIN:VCALENDAR
VERSION:2.0
PRODID:-//Quiltworx.com - ECPv4.9.6//NONSGML v1.0//EN
CALSCALE:GREGORIAN
METHOD:PUBLISH
X-WR-CALNAME:Quiltworx.com
X-ORIGINAL-URL:https://www.quiltworx.com
X-WR-CALDESC:Events for Quiltworx.com
BEGIN:VTIMEZONE
TZID:"America/Denver"
BEGIN:DAYLIGHT
TZOFFSETFROM:-0700
TZOFFSETTO:-0600
TZNAME:MDT
DTSTART:20190310T090000
END:DAYLIGHT
BEGIN:STANDARD
TZOFFSETFROM:-0600
TZOFFSETTO:-0700
TZNAME:MST
DTSTART:20191103T080000
END:STANDARD
END:VTIMEZONE
BEGIN:VEVENT
DTSTART;TZID="America/Denver":20190608T100000
DTEND;TZID="America/Denver":20190608T150000
DTSTAMP:20260420T164203
CREATED:20190212T225202Z
LAST-MODIFIED:20190416T234228Z
UID:92525-1559988000-1560006000@www.quiltworx.com
SUMMARY:Grandma's Wedding Ring  Part 1 of 2 (Quilt Bees\, Vankleek Hill\, ON)
DESCRIPTION:
URL:https://www.quiltworx.com/event/grandmas-wedding-ring-quilt-bees-vankleek-hill-on/
LOCATION:Quilt Bees\, 22 Main St E\, Vankleek Hill\, Ontario\, K0B 1R0\, Canada
CATEGORIES:Sherida Giddings
ATTACH;FMTTYPE=image/jpeg:https://d90udyyio1r4.cloudfront.net/wp-content/uploads/2013/09/Grandmas-Wedding-Ring-WF-Cover.jpg
END:VEVENT
END:VCALENDAR