BEGIN:VCALENDAR
VERSION:2.0
PRODID:-//Quiltworx.com - ECPv4.9.6//NONSGML v1.0//EN
CALSCALE:GREGORIAN
METHOD:PUBLISH
X-WR-CALNAME:Quiltworx.com
X-ORIGINAL-URL:https://www.quiltworx.com
X-WR-CALDESC:Events for Quiltworx.com
BEGIN:VTIMEZONE
TZID:"America/Denver"
BEGIN:DAYLIGHT
TZOFFSETFROM:-0700
TZOFFSETTO:-0600
TZNAME:MDT
DTSTART:20170312T090000
END:DAYLIGHT
BEGIN:STANDARD
TZOFFSETFROM:-0600
TZOFFSETTO:-0700
TZNAME:MST
DTSTART:20171105T080000
END:STANDARD
END:VTIMEZONE
BEGIN:VEVENT
DTSTART;TZID="America/Denver":20170820T110000
DTEND;TZID="America/Denver":20170820T170000
DTSTAMP:20260424T224559
CREATED:20170409T195655Z
LAST-MODIFIED:20170409T195858Z
UID:83293-1503226800-1503248400@www.quiltworx.com
SUMMARY:Glazier Star
DESCRIPTION: \nGlazier Star Technique of the month. Class 4 at Capital Quilts in Gaithersburg\, Maryland. \n
URL:https://www.quiltworx.com/event/glazier-star-2/
LOCATION:Capital Quilts\, 15926 Luanne Drive\, Gaithersburg\, MD\, 20877\, United States
CATEGORIES:Glacier Star,Jacolin Kelso
ORGANIZER;CN="Capital%20Quilts":MAILTO:sewit@capitalquilts.com
END:VEVENT
END:VCALENDAR