BEGIN:VCALENDAR
VERSION:2.0
PRODID:-//Quiltworx.com - ECPv4.9.6//NONSGML v1.0//EN
CALSCALE:GREGORIAN
METHOD:PUBLISH
X-WR-CALNAME:Quiltworx.com
X-ORIGINAL-URL:https://www.quiltworx.com
X-WR-CALDESC:Events for Quiltworx.com
BEGIN:VTIMEZONE
TZID:"America/Denver"
BEGIN:DAYLIGHT
TZOFFSETFROM:-0700
TZOFFSETTO:-0600
TZNAME:MDT
DTSTART:20130310T090000
END:DAYLIGHT
BEGIN:STANDARD
TZOFFSETFROM:-0600
TZOFFSETTO:-0700
TZNAME:MST
DTSTART:20131103T080000
END:STANDARD
END:VTIMEZONE
BEGIN:VEVENT
DTSTART;TZID="America/Denver":20130417T130000
DTEND;TZID="America/Denver":20130417T160000
DTSTAMP:20260423T174943
CREATED:20130215T073239Z
LAST-MODIFIED:20130215T073240Z
UID:6041-1366203600-1366214400@www.quiltworx.com
SUMMARY:Glacier Star
DESCRIPTION:Our next Glacier Star class starts on Wednesday\, 17th April and runs over eight weeks.  More information can be downloaded from our website at www.honeysucklepatchwork.com.au\, click on the Classes button at the bottom of the Homepage to download a pdf with all class information. \n
URL:https://www.quiltworx.com/event/glacier-star/
LOCATION:Honeysuckle Stained Glass & Patchwork\, 2 Havilah Road\, Bendigo\, \, Victoria\, 3550\, Australia
CATEGORIES:Glacier Star,Honeysuckle Stained Glass
ORGANIZER;CN="Nicky%20Tepper":MAILTO:sales@honeysucklepatchwork.com.au
END:VEVENT
END:VCALENDAR