BEGIN:VCALENDAR
VERSION:2.0
PRODID:-//Quiltworx.com - ECPv4.9.6//NONSGML v1.0//EN
CALSCALE:GREGORIAN
METHOD:PUBLISH
X-WR-CALNAME:Quiltworx.com
X-ORIGINAL-URL:https://www.quiltworx.com
X-WR-CALDESC:Events for Quiltworx.com
BEGIN:VTIMEZONE
TZID:"America/Denver"
BEGIN:DAYLIGHT
TZOFFSETFROM:-0700
TZOFFSETTO:-0600
TZNAME:MDT
DTSTART:20130310T090000
END:DAYLIGHT
BEGIN:STANDARD
TZOFFSETFROM:-0600
TZOFFSETTO:-0700
TZNAME:MST
DTSTART:20131103T080000
END:STANDARD
END:VTIMEZONE
BEGIN:VEVENT
DTSTART;TZID="America/Denver":20130316T093000
DTEND;TZID="America/Denver":20130316T160000
DTSTAMP:20260419T223745
CREATED:20130314T165703Z
LAST-MODIFIED:20130314T165703Z
UID:6678-1363426200-1363449600@www.quiltworx.com
SUMMARY:Glacier Star Saturday Class #1
DESCRIPTION:
URL:https://www.quiltworx.com/event/glacier-star-saturday-class-1/2013-03-16/
CATEGORIES:Glacier Star,Lotus Fabrics,Shops
END:VEVENT
END:VCALENDAR