BEGIN:VCALENDAR
VERSION:2.0
PRODID:-//Quiltworx.com - ECPv4.9.6//NONSGML v1.0//EN
CALSCALE:GREGORIAN
METHOD:PUBLISH
X-WR-CALNAME:Quiltworx.com
X-ORIGINAL-URL:https://www.quiltworx.com
X-WR-CALDESC:Events for Quiltworx.com
BEGIN:VTIMEZONE
TZID:"America/Denver"
BEGIN:DAYLIGHT
TZOFFSETFROM:-0700
TZOFFSETTO:-0600
TZNAME:MDT
DTSTART:20180311T090000
END:DAYLIGHT
BEGIN:STANDARD
TZOFFSETFROM:-0600
TZOFFSETTO:-0700
TZNAME:MST
DTSTART:20181104T080000
END:STANDARD
END:VTIMEZONE
BEGIN:VEVENT
DTSTART;TZID="America/Denver":20180203T093000
DTEND;TZID="America/Denver":20180204T163000
DTSTAMP:20260419T221913
CREATED:20170819T084425Z
LAST-MODIFIED:20171218T030156Z
UID:85653-1517650200-1517761800@www.quiltworx.com
SUMMARY:Glacier Star cutting class and Judy Sew day\, Stitchin' Tree\, Woodbine\, IA\, February 3 -4\, 2018
DESCRIPTION:
URL:https://www.quiltworx.com/event/glacier-star-cutting-class-stitchin-tree-woodbine-ia-february-3-2018/
CATEGORIES:Connie Lange,Glacier Star
ORGANIZER;CN="Teresa%20Cohen":MAILTO:teresa@stitchintree.com
END:VEVENT
END:VCALENDAR