BEGIN:VCALENDAR
VERSION:2.0
PRODID:-//Quiltworx.com - ECPv4.9.6//NONSGML v1.0//EN
CALSCALE:GREGORIAN
METHOD:PUBLISH
X-WR-CALNAME:Quiltworx.com
X-ORIGINAL-URL:https://www.quiltworx.com
X-WR-CALDESC:Events for Quiltworx.com
BEGIN:VTIMEZONE
TZID:"America/Denver"
BEGIN:DAYLIGHT
TZOFFSETFROM:-0700
TZOFFSETTO:-0600
TZNAME:MDT
DTSTART:20170312T090000
END:DAYLIGHT
BEGIN:STANDARD
TZOFFSETFROM:-0600
TZOFFSETTO:-0700
TZNAME:MST
DTSTART:20171105T080000
END:STANDARD
END:VTIMEZONE
BEGIN:VEVENT
DTSTART;TZID="America/Denver":20170114T100000
DTEND;TZID="America/Denver":20170114T150000
DTSTAMP:20260424T043037
CREATED:20160925T054402Z
LAST-MODIFIED:20160925T054734Z
UID:79672-1484388000-1484406000@www.quiltworx.com
SUMMARY:Glacier Star Class 4
DESCRIPTION:If you miss a class due to life getting in the way you may come to a Open Sew at Beginnings Quilt Shop for free as a make up class.  \n
URL:https://www.quiltworx.com/event/glacier-star-class-4-5/
CATEGORIES:Glacier Star,Janet McNamara Houck
END:VEVENT
END:VCALENDAR