BEGIN:VCALENDAR
VERSION:2.0
PRODID:-//Quiltworx.com - ECPv4.9.6//NONSGML v1.0//EN
CALSCALE:GREGORIAN
METHOD:PUBLISH
X-WR-CALNAME:Quiltworx.com
X-ORIGINAL-URL:https://www.quiltworx.com
X-WR-CALDESC:Events for Quiltworx.com
BEGIN:VTIMEZONE
TZID:"America/Denver"
BEGIN:DAYLIGHT
TZOFFSETFROM:-0700
TZOFFSETTO:-0600
TZNAME:MDT
DTSTART:20160313T090000
END:DAYLIGHT
BEGIN:STANDARD
TZOFFSETFROM:-0600
TZOFFSETTO:-0700
TZNAME:MST
DTSTART:20161106T080000
END:STANDARD
END:VTIMEZONE
BEGIN:VEVENT
DTSTART;TZID="America/Denver":20160924T100000
DTEND;TZID="America/Denver":20160924T160000
DTSTAMP:20260420T115728
CREATED:20160622T084403Z
LAST-MODIFIED:20160622T084757Z
UID:78207-1474711200-1474732800@www.quiltworx.com
SUMMARY:Glacier Star 8 of 8
DESCRIPTION: \nTechniques:  Curved Piecing\, Floating Points\, Strip Piecing \n
URL:https://www.quiltworx.com/event/glacier-star-8-of-8/
LOCATION:Cloth and Quilts\, 625 East Main St\, Turlock \, CA\, United States
CATEGORIES:Glacier Star,Victoria Johnson
END:VEVENT
END:VCALENDAR