BEGIN:VCALENDAR
VERSION:2.0
PRODID:-//Quiltworx.com - ECPv4.9.6//NONSGML v1.0//EN
CALSCALE:GREGORIAN
METHOD:PUBLISH
X-WR-CALNAME:Quiltworx.com
X-ORIGINAL-URL:https://www.quiltworx.com
X-WR-CALDESC:Events for Quiltworx.com
BEGIN:VTIMEZONE
TZID:"America/Denver"
BEGIN:DAYLIGHT
TZOFFSETFROM:-0700
TZOFFSETTO:-0600
TZNAME:MDT
DTSTART:20160313T090000
END:DAYLIGHT
BEGIN:STANDARD
TZOFFSETFROM:-0600
TZOFFSETTO:-0700
TZNAME:MST
DTSTART:20161106T080000
END:STANDARD
END:VTIMEZONE
BEGIN:VEVENT
DTSTART;TZID="America/Denver":20161008T100000
DTEND;TZID="America/Denver":20161008T150000
DTSTAMP:20260424T094309
CREATED:20160925T052950Z
LAST-MODIFIED:20160925T053846Z
UID:79666-1475920800-1475938800@www.quiltworx.com
SUMMARY:Glacier Star Class 1
DESCRIPTION:Class 1. Payment due for all 6 sessions at the 1st class. Pattern $60 payable when received.\nLife happens so if you miss a class you may come to an Open Sew for free. \n
URL:https://www.quiltworx.com/event/glacier-star-60/
CATEGORIES:Glacier Star,Janet McNamara Houck
END:VEVENT
END:VCALENDAR