BEGIN:VCALENDAR
VERSION:2.0
PRODID:-//Quiltworx.com - ECPv4.9.6//NONSGML v1.0//EN
CALSCALE:GREGORIAN
METHOD:PUBLISH
X-WR-CALNAME:Quiltworx.com
X-ORIGINAL-URL:https://www.quiltworx.com
X-WR-CALDESC:Events for Quiltworx.com
BEGIN:VTIMEZONE
TZID:"America/Denver"
BEGIN:DAYLIGHT
TZOFFSETFROM:-0700
TZOFFSETTO:-0600
TZNAME:MDT
DTSTART:20160313T090000
END:DAYLIGHT
BEGIN:STANDARD
TZOFFSETFROM:-0600
TZOFFSETTO:-0700
TZNAME:MST
DTSTART:20161106T080000
END:STANDARD
END:VTIMEZONE
BEGIN:VEVENT
DTSTART;TZID="America/Denver":20160910T100000
DTEND;TZID="America/Denver":20160910T160000
DTSTAMP:20260421T134919
CREATED:20160304T030443Z
LAST-MODIFIED:20160304T030443Z
UID:24127-1473501600-1473523200@www.quiltworx.com
SUMMARY:Geese Migrations Workshop (Jul-Sep '16 / Class 3 of 3)
DESCRIPTION: \n
URL:https://www.quiltworx.com/event/geese-migrations-workshop-jul-sep-16-class-3-of-3/
CATEGORIES:Carol Stanek
END:VEVENT
END:VCALENDAR