BEGIN:VCALENDAR
VERSION:2.0
PRODID:-//Quiltworx.com - ECPv4.9.6//NONSGML v1.0//EN
CALSCALE:GREGORIAN
METHOD:PUBLISH
X-WR-CALNAME:Quiltworx.com
X-ORIGINAL-URL:https://www.quiltworx.com
X-WR-CALDESC:Events for Quiltworx.com
BEGIN:VTIMEZONE
TZID:"America/Denver"
BEGIN:DAYLIGHT
TZOFFSETFROM:-0700
TZOFFSETTO:-0600
TZNAME:MDT
DTSTART:20180311T090000
END:DAYLIGHT
BEGIN:STANDARD
TZOFFSETFROM:-0600
TZOFFSETTO:-0700
TZNAME:MST
DTSTART:20181104T080000
END:STANDARD
END:VTIMEZONE
BEGIN:VEVENT
DTSTART;TZID="America/Denver":20180816T093000
DTEND;TZID="America/Denver":20180816T163000
DTSTAMP:20260425T034012
CREATED:20180709T051717Z
LAST-MODIFIED:20180709T053331Z
UID:89764-1534411800-1534437000@www.quiltworx.com
SUMMARY:Frozen Fountain cutting class\, Quilters Cottage\, Kearney\, NE\, August 16\, 2018
DESCRIPTION:
URL:https://www.quiltworx.com/event/frozen-fountain-cutting-class-quilters-cottage-kearney-ne-august-16/
LOCATION:Quilter's Cottage\, 5915 2nd Ave.\, Kearney\, NE\, 68847\, United States
CATEGORIES:Connie Lange
END:VEVENT
END:VCALENDAR