BEGIN:VCALENDAR
VERSION:2.0
PRODID:-//Quiltworx.com - ECPv4.9.6//NONSGML v1.0//EN
CALSCALE:GREGORIAN
METHOD:PUBLISH
X-WR-CALNAME:Quiltworx.com
X-ORIGINAL-URL:https://www.quiltworx.com
X-WR-CALDESC:Events for Quiltworx.com
BEGIN:VTIMEZONE
TZID:"America/Indiana/Indianapolis"
BEGIN:DAYLIGHT
TZOFFSETFROM:-0500
TZOFFSETTO:-0400
TZNAME:EDT
DTSTART:20210314T070000
END:DAYLIGHT
BEGIN:STANDARD
TZOFFSETFROM:-0400
TZOFFSETTO:-0500
TZNAME:EST
DTSTART:20211107T060000
END:STANDARD
END:VTIMEZONE
BEGIN:VEVENT
DTSTART;TZID="America/Indiana/Indianapolis":20210812T130000
DTEND;TZID="America/Indiana/Indianapolis":20210812T170000
DTSTAMP:20260423T125638
CREATED:20210529T141429Z
LAST-MODIFIED:20210529T141429Z
UID:99626-1628773200-1628787600@www.quiltworx.com
SUMMARY:Fractured Star Workshop
DESCRIPTION:
URL:https://www.quiltworx.com/event/fractured-star-workshop-2/2021-08-12/
LOCATION:Sew Creative Threads\, 189 CR 6 W\, Elkhart\, IN\, 46514\, United States
CATEGORIES:Fractured Star,Tammy Gardner
END:VEVENT
END:VCALENDAR