BEGIN:VCALENDAR
VERSION:2.0
PRODID:-//Quiltworx.com - ECPv4.9.6//NONSGML v1.0//EN
CALSCALE:GREGORIAN
METHOD:PUBLISH
X-WR-CALNAME:Quiltworx.com
X-ORIGINAL-URL:https://www.quiltworx.com
X-WR-CALDESC:Events for Quiltworx.com
BEGIN:VTIMEZONE
TZID:"America/Denver"
BEGIN:DAYLIGHT
TZOFFSETFROM:-0700
TZOFFSETTO:-0600
TZNAME:MDT
DTSTART:20140309T090000
END:DAYLIGHT
BEGIN:STANDARD
TZOFFSETFROM:-0600
TZOFFSETTO:-0700
TZNAME:MST
DTSTART:20141102T080000
END:STANDARD
END:VTIMEZONE
BEGIN:VEVENT
DTSTART;TZID="America/Denver":20141003T170000
DTEND;TZID="America/Denver":20141003T220000
DTSTAMP:20260420T015103
CREATED:20141002T010056Z
LAST-MODIFIED:20141002T010057Z
UID:15662-1412355600-1412373600@www.quiltworx.com
SUMMARY:Fractured Paintbox
DESCRIPTION:This project uses 2 ½” strips\, a dark accent color and only one block!!!! It’s amazing how many options you have using value and not just color! This is a great beginner Judy project; it’s easy to cut and easy to sew….a real confidence builder!! Second Session is Sunday\, Oct 12 from 1-4. \n
URL:https://www.quiltworx.com/event/fractured-paintbox/
LOCATION:QuiltTrends\, 6155 J Huntley Rd.\, Columbus\, OH\, 43229\, United States
CATEGORIES:Quilter's Getaway
END:VEVENT
END:VCALENDAR