BEGIN:VCALENDAR
VERSION:2.0
PRODID:-//Quiltworx.com - ECPv4.9.6//NONSGML v1.0//EN
CALSCALE:GREGORIAN
METHOD:PUBLISH
X-WR-CALNAME:Quiltworx.com
X-ORIGINAL-URL:https://www.quiltworx.com
X-WR-CALDESC:Events for Quiltworx.com
BEGIN:VTIMEZONE
TZID:"America/Denver"
BEGIN:DAYLIGHT
TZOFFSETFROM:-0700
TZOFFSETTO:-0600
TZNAME:MDT
DTSTART:20150308T090000
END:DAYLIGHT
BEGIN:STANDARD
TZOFFSETFROM:-0600
TZOFFSETTO:-0700
TZNAME:MST
DTSTART:20151101T080000
END:STANDARD
END:VTIMEZONE
BEGIN:VEVENT
DTSTART;TZID="America/Denver":20151128T100000
DTEND;TZID="America/Denver":20151128T170000
DTSTAMP:20260425T031958
CREATED:20150829T031503Z
LAST-MODIFIED:20150829T031613Z
UID:21134-1448704800-1448730000@www.quiltworx.com
SUMMARY:Fractured Paint Box
DESCRIPTION:Fractured Paint box was designed as a beginner pattern to introduce quilters to paper piecing!  The project is fast\, uses only one foundation block and has simple directions.  It a a great\, affordable way to get introduced to paper piecing and gain confidence\, or for the experience quilter an opportunity to make a simple\, stunning quilt. \n
URL:https://www.quiltworx.com/event/fractured-paint-box-11/
LOCATION:Quilting From the Heart\, 5710-48 Avenue\, Camrose\, AB\, T4V0K1\, Canada
CATEGORIES:Fractured Paint Box,Roger Kerr
ORGANIZER;CN="Quilting%20From%20the%20Heart%20-%20Roger%20Kerr":MAILTO:info@qfth.ca
END:VEVENT
END:VCALENDAR