BEGIN:VCALENDAR
VERSION:2.0
PRODID:-//Quiltworx.com - ECPv4.9.6//NONSGML v1.0//EN
CALSCALE:GREGORIAN
METHOD:PUBLISH
X-WR-CALNAME:Quiltworx.com
X-ORIGINAL-URL:https://www.quiltworx.com
X-WR-CALDESC:Events for Quiltworx.com
BEGIN:VTIMEZONE
TZID:"America/Denver"
BEGIN:DAYLIGHT
TZOFFSETFROM:-0700
TZOFFSETTO:-0600
TZNAME:MDT
DTSTART:20170312T090000
END:DAYLIGHT
BEGIN:STANDARD
TZOFFSETFROM:-0600
TZOFFSETTO:-0700
TZNAME:MST
DTSTART:20171105T080000
END:STANDARD
END:VTIMEZONE
BEGIN:VEVENT
DTSTART;TZID="America/Denver":20170908T160000
DTEND;TZID="America/Denver":20170908T210000
DTSTAMP:20260423T131541
CREATED:20170523T211155Z
LAST-MODIFIED:20170523T211155Z
UID:83969-1504886400-1504904400@www.quiltworx.com
SUMMARY:Fractured Paint Box  #1
DESCRIPTION:Come join us at The Quilting Grounds Quilt Shop in Norwood Young America\, MN for their first ever Quiltworx class.  Fractured Paint Box is a beautiful quilt and The Quilting Grounds has a wonderful classroom in their fantastic store. \n
URL:https://www.quiltworx.com/event/fractured-paint-box-1/
LOCATION:The Quilting Grounds Quilt Shop\, 224 Elm St. West\, Norwood\, Young America\, MN\, 55368\, United States
CATEGORIES:Fractured Paint Box,Sandra Kollath
ORGANIZER;CN="The%20Quilting%20Grounds":MAILTO:stacey.stitches@gmail.com
END:VEVENT
END:VCALENDAR