BEGIN:VCALENDAR
VERSION:2.0
PRODID:-//Quiltworx.com - ECPv4.9.6//NONSGML v1.0//EN
CALSCALE:GREGORIAN
METHOD:PUBLISH
X-WR-CALNAME:Quiltworx.com
X-ORIGINAL-URL:https://www.quiltworx.com
X-WR-CALDESC:Events for Quiltworx.com
BEGIN:VTIMEZONE
TZID:"America/Denver"
BEGIN:DAYLIGHT
TZOFFSETFROM:-0700
TZOFFSETTO:-0600
TZNAME:MDT
DTSTART:20150308T090000
END:DAYLIGHT
BEGIN:STANDARD
TZOFFSETFROM:-0600
TZOFFSETTO:-0700
TZNAME:MST
DTSTART:20151101T080000
END:STANDARD
END:VTIMEZONE
BEGIN:VEVENT
DTSTART;TZID="America/Denver":20150828T133000
DTEND;TZID="America/Denver":20150829T173000
DTSTAMP:20260419T140817
CREATED:20150115T015216Z
LAST-MODIFIED:20150115T022419Z
UID:17115-1440768600-1440869400@www.quiltworx.com
SUMMARY:FOUR 
DESCRIPTION:The beautiful mountain town of Woodland Park\, Colorado will be the setting for their quilt guild’s Trunk Show and 1 1/2 day class.  While in Woodland Park you truly are Quilting Above the Clouds.  Not a member\, sign up now because you won’t want to miss all the fun! \n
URL:https://www.quiltworx.com/event/four/
LOCATION:Quilter's Above the Clouds\, Woodland Park\, CO\, United States
CATEGORIES:Sandy Lueth
ORGANIZER;CN="Cindy%20DeMore":MAILTO:cdmore@q.com
END:VEVENT
END:VCALENDAR