BEGIN:VCALENDAR
VERSION:2.0
PRODID:-//Quiltworx.com - ECPv4.9.6//NONSGML v1.0//EN
CALSCALE:GREGORIAN
METHOD:PUBLISH
X-WR-CALNAME:Quiltworx.com
X-ORIGINAL-URL:https://www.quiltworx.com
X-WR-CALDESC:Events for Quiltworx.com
BEGIN:VTIMEZONE
TZID:"America/Denver"
BEGIN:DAYLIGHT
TZOFFSETFROM:-0700
TZOFFSETTO:-0600
TZNAME:MDT
DTSTART:20140309T090000
END:DAYLIGHT
BEGIN:STANDARD
TZOFFSETFROM:-0600
TZOFFSETTO:-0700
TZNAME:MST
DTSTART:20141102T080000
END:STANDARD
END:VTIMEZONE
BEGIN:VEVENT
DTSTART;TZID="America/Denver":20141204T170000
DTEND;TZID="America/Denver":20141204T200000
DTSTAMP:20260419T190513
CREATED:20140512T231956Z
LAST-MODIFIED:20140512T231956Z
UID:13697-1417712400-1417723200@www.quiltworx.com
SUMMARY:Fire Island Part 4
DESCRIPTION:
URL:https://www.quiltworx.com/event/fire-island-part-4/
CATEGORIES:Fire Island Hosta,Kathi Carter-Sweet
END:VEVENT
END:VCALENDAR