BEGIN:VCALENDAR
VERSION:2.0
PRODID:-//Quiltworx.com - ECPv4.9.6//NONSGML v1.0//EN
CALSCALE:GREGORIAN
METHOD:PUBLISH
X-WR-CALNAME:Quiltworx.com
X-ORIGINAL-URL:https://www.quiltworx.com
X-WR-CALDESC:Events for Quiltworx.com
BEGIN:VTIMEZONE
TZID:"America/Denver"
BEGIN:DAYLIGHT
TZOFFSETFROM:-0700
TZOFFSETTO:-0600
TZNAME:MDT
DTSTART:20140309T090000
END:DAYLIGHT
BEGIN:STANDARD
TZOFFSETFROM:-0600
TZOFFSETTO:-0700
TZNAME:MST
DTSTART:20141102T080000
END:STANDARD
END:VTIMEZONE
BEGIN:VEVENT
DTSTART;VALUE=DATE:20141016
DTEND;VALUE=DATE:20141019
DTSTAMP:20260420T035906
CREATED:20140919T224928Z
LAST-MODIFIED:20140919T230032Z
UID:15500-1413417600-1413676799@www.quiltworx.com
SUMMARY:Fire Island Hosta at Creative Stitches\, Helena\, Mt
DESCRIPTION:This is the second workshop for the Fire Island Hosta.  We will be assembling the quilt\, so make sure you have all of your foundations completed and the borders cut out. \n  \n
URL:https://www.quiltworx.com/event/fire-island-hosta-at-creative-stitches-helena-mt/
LOCATION:Creative Stitches\, 3710 N. Montana Avenue\, Helena\, MT\, 59602\, United States
CATEGORIES:Diana Simkins,Fire Island Hosta
END:VEVENT
END:VCALENDAR