BEGIN:VCALENDAR
VERSION:2.0
PRODID:-//Quiltworx.com - ECPv4.9.6//NONSGML v1.0//EN
CALSCALE:GREGORIAN
METHOD:PUBLISH
X-WR-CALNAME:Quiltworx.com
X-ORIGINAL-URL:https://www.quiltworx.com
X-WR-CALDESC:Events for Quiltworx.com
BEGIN:VTIMEZONE
TZID:"America/Denver"
BEGIN:DAYLIGHT
TZOFFSETFROM:-0700
TZOFFSETTO:-0600
TZNAME:MDT
DTSTART:20180311T090000
END:DAYLIGHT
BEGIN:STANDARD
TZOFFSETFROM:-0600
TZOFFSETTO:-0700
TZNAME:MST
DTSTART:20181104T080000
END:STANDARD
END:VTIMEZONE
BEGIN:VEVENT
DTSTART;TZID="America/Denver":20180112T100000
DTEND;TZID="America/Denver":20180112T160000
DTSTAMP:20260419T190454
CREATED:20171130T035354Z
LAST-MODIFIED:20171130T035354Z
UID:86871-1515751200-1515772800@www.quiltworx.com
SUMMARY:FINISH IT WITH PATSY
DESCRIPTION:A ONE DAY CLASS.  BRING ANY JUDY PROJECT YOU’VE STARTED WITH ME AND WOULD LIKE TO MAKE PROGRESS OR FINISH \n
URL:https://www.quiltworx.com/event/finish-it-with-patsy-6/
LOCATION:KIKI'S QUILT SHACK\, 1732 W. BULLARD\, FRESNO\, CA\, United States
CATEGORIES:Patsy Carpenter
END:VEVENT
END:VCALENDAR