BEGIN:VCALENDAR
VERSION:2.0
PRODID:-//Quiltworx.com - ECPv4.9.6//NONSGML v1.0//EN
CALSCALE:GREGORIAN
METHOD:PUBLISH
X-WR-CALNAME:Quiltworx.com
X-ORIGINAL-URL:https://www.quiltworx.com
X-WR-CALDESC:Events for Quiltworx.com
BEGIN:VTIMEZONE
TZID:"America/Denver"
BEGIN:DAYLIGHT
TZOFFSETFROM:-0700
TZOFFSETTO:-0600
TZNAME:MDT
DTSTART:20230312T090000
END:DAYLIGHT
BEGIN:STANDARD
TZOFFSETFROM:-0600
TZOFFSETTO:-0700
TZNAME:MST
DTSTART:20231105T080000
END:STANDARD
END:VTIMEZONE
BEGIN:VEVENT
DTSTART;VALUE=DATE:20230520
DTEND;VALUE=DATE:20230521
DTSTAMP:20260424T211023
CREATED:20230112T161200Z
LAST-MODIFIED:20230112T161200Z
UID:105558-1684540800-1684627199@www.quiltworx.com
SUMMARY:Fields of Aster (Session Four) - Quarry Quilts and Yarn (Sandstone\, MN)
DESCRIPTION:
URL:https://www.quiltworx.com/event/fields-of-aster-session-four-quarry-quilts-and-yarn-sandstone-mn/
LOCATION:Quarry Quilts and Yarns\, 326 Quarry Place\, Sandstone\, 55072\, United States
CATEGORIES:Jodie Madison
ORGANIZER;CN="Toni%20Groe":MAILTO:quarryquiltsandyarns@gmail.com
END:VEVENT
END:VCALENDAR